BEGIN:VCALENDAR
VERSION:2.0
PRODID:-//Sabre//Sabre VObject 4.5.8//EN
CALSCALE:GREGORIAN
BEGIN:VEVENT
UID:sabre-vobject-1996e7ab-261e-4f1c-8d48-06163c64e0f3
DTSTAMP:20260423T112746Z
SUMMARY:Eltern-Kind-Gruppe - Waldgruppe
DESCRIPTION:https://keb-ll.de/starnberg-landsberg/veranstaltungen/eltern-ki
 nd-gruppe-waldgruppe_id113172
DTSTART;TZID=Europe/Berlin:20220810T100000
DTEND;TZID=Europe/Berlin:20220810T120000
LOCATION:Pfarrzentrum\, Hindenburgring 15\, 86899 Landsberg am Lech
END:VEVENT
END:VCALENDAR
