BEGIN:VCALENDAR
VERSION:2.0
PRODID:-//Sabre//Sabre VObject 4.5.8//EN
CALSCALE:GREGORIAN
BEGIN:VEVENT
UID:sabre-vobject-cad431c5-5992-440a-b15c-ded9d14ba6da
DTSTAMP:20260421T153310Z
SUMMARY:Eltern-Kind-Treffen Erziehungs- und Ernährungsfragen bei Kleinkind
 ern
DESCRIPTION:https://keb-ll.de/starnberg-landsberg/veranstaltungen/eltern-ki
 nd-treffen-erziehungs-und-ernaehrungsfragen-bei-kleinkindern_id121370
DTSTART;TZID=Europe/Berlin:20220628T090000
DTEND;TZID=Europe/Berlin:20220628T103000
LOCATION:Pfarrheim Erpfting\, Hauptstraße 34\, 86899 Landsberg am Lech
END:VEVENT
END:VCALENDAR
