BEGIN:VCALENDAR
VERSION:2.0
PRODID:-//Sabre//Sabre VObject 4.5.8//EN
CALSCALE:GREGORIAN
BEGIN:VEVENT
UID:sabre-vobject-4b2b6273-0a7a-4d5f-b284-c0b5f823324d
DTSTAMP:20260423T142642Z
SUMMARY:Fastenwoche mit Meditation-Yoga-Klangschalen
DESCRIPTION:https://keb-ll.de/starnberg-landsberg/veranstaltungen/fastenwoc
 he-mit-meditation-yoga-klangschalen_id135474
DTSTART;TZID=Europe/Berlin:20220910T150000
DTEND;TZID=Europe/Berlin:20220916T133000
LOCATION:Exerzitienhaus\, Erzabtei 1\, 86941 Eresing
END:VEVENT
END:VCALENDAR
