BEGIN:VCALENDAR
VERSION:2.0
PRODID:-//Sabre//Sabre VObject 4.5.8//EN
CALSCALE:GREGORIAN
BEGIN:VEVENT
UID:sabre-vobject-71a9bf80-c755-4774-a0ef-301538747100
DTSTAMP:20260424T092035Z
SUMMARY:Brautleutetag
DESCRIPTION:https://keb-ll.de/starnberg-landsberg/veranstaltungen/brautleut
 etag_id135477
DTSTART;TZID=Europe/Berlin:20220911T093000
LOCATION:Exerzitienhaus\, Erzabtei 1\, 86941 Eresing
END:VEVENT
END:VCALENDAR
