BEGIN:VCALENDAR
VERSION:2.0
PRODID:-//Sabre//Sabre VObject 4.5.8//EN
CALSCALE:GREGORIAN
BEGIN:VEVENT
UID:sabre-vobject-dac6fdd3-a139-40dd-ab2b-a16b60f058d9
DTSTAMP:20260424T181112Z
SUMMARY:Bildungsfahrt zur Wieskirche
DESCRIPTION:https://keb-ll.de/starnberg-landsberg/veranstaltungen/bildungsf
 ahrt-zur-wieskirche_id136683
DTSTART;TZID=Europe/Berlin:20220517T150000
LOCATION:Haltestelle Feuerwehrhaus\, Römerstraße 8\, 82319 Starnberg
END:VEVENT
END:VCALENDAR
