BEGIN:VCALENDAR
VERSION:2.0
PRODID:-//Sabre//Sabre VObject 4.5.8//EN
CALSCALE:GREGORIAN
BEGIN:VEVENT
UID:sabre-vobject-8c1ea4b3-cb40-48b7-be64-d2f3d6f776d1
DTSTAMP:20260422T192712Z
SUMMARY:5 Tage Kunst\, Kultur und Natur im Elsass
DESCRIPTION:https://keb-ll.de/starnberg-landsberg/veranstaltungen/5-tage-ku
 nst-kultur-und-natur-im-elsass_id138386
DTSTART;TZID=Europe/Berlin:20220831T060000
DTEND;TZID=Europe/Berlin:20220904T000000
LOCATION:Pfarrheim St. Ulrich\, Prinz-Karl-Straße 3\, 82319 Starnberg
END:VEVENT
END:VCALENDAR
