BEGIN:VCALENDAR
VERSION:2.0
PRODID:-//Sabre//Sabre VObject 4.5.8//EN
CALSCALE:GREGORIAN
BEGIN:VEVENT
UID:sabre-vobject-96348f00-23e5-4db2-9509-27ba2908d083
DTSTAMP:20260420T100804Z
SUMMARY:Weihnachtsbräuche in Bayern
DESCRIPTION:https://keb-ll.de/starnberg-landsberg/veranstaltungen/weihnacht
 sbraeuche-in-bayern_id151306
DTSTART;TZID=Europe/Berlin:20221214T140000
LOCATION:Feuerwehrhaus\, Römerstraße 8\, 82319 Starnberg
END:VEVENT
END:VCALENDAR
