BEGIN:VCALENDAR
VERSION:2.0
PRODID:-//Sabre//Sabre VObject 4.5.8//EN
CALSCALE:GREGORIAN
BEGIN:VEVENT
UID:sabre-vobject-b1092123-2375-4200-b62b-bb8cf934563d
DTSTAMP:20260421T124726Z
SUMMARY:Körperfit - von Aerobic bis Zirkeltraining
DESCRIPTION:https://keb-ll.de/starnberg-landsberg/veranstaltungen/koerperfi
 t-von-aerobic-bis-zirkeltraining_id156259
DTSTART;TZID=Europe/Berlin:20230424T190000
DTEND;TZID=Europe/Berlin:20230424T203000
LOCATION:Alte Schule Ramsach\, Dorfstraße 28\, 86929 Penzing
END:VEVENT
END:VCALENDAR
