BEGIN:VCALENDAR
VERSION:2.0
PRODID:-//Sabre//Sabre VObject 4.5.8//EN
CALSCALE:GREGORIAN
BEGIN:VEVENT
UID:sabre-vobject-6b129dc1-226b-4432-9553-b51afa2e236c
DTSTAMP:20260424T210710Z
SUMMARY:Körperfit - von Aerobic bis Zirkeltraining
DESCRIPTION:https://keb-ll.de/starnberg-landsberg/veranstaltungen/koerperfi
 t-von-aerobic-bis-zirkeltraining_id156260
DTSTART;TZID=Europe/Berlin:20230501T190000
DTEND;TZID=Europe/Berlin:20230501T203000
LOCATION:Alte Schule Ramsach\, Dorfstraße 28\, 86929 Penzing
END:VEVENT
END:VCALENDAR
