BEGIN:VCALENDAR
VERSION:2.0
PRODID:-//Sabre//Sabre VObject 4.5.8//EN
CALSCALE:GREGORIAN
BEGIN:VEVENT
UID:sabre-vobject-8dff1761-10e4-40a0-bdd3-61b15b7cb3e1
DTSTAMP:20260425T031107Z
SUMMARY:Mit dem Inneren Kompass durch mein Leben gehen
DESCRIPTION:https://keb-ll.de/starnberg-landsberg/veranstaltungen/mit-dem-i
 nneren-kompass-durch-mein-leben-gehen_id164174
DTSTART;TZID=Europe/Berlin:20230127T170000
DTEND;TZID=Europe/Berlin:20230129T133000
LOCATION:Exerzitienhaus\, Erzabtei 1\, 86941 Eresing
END:VEVENT
END:VCALENDAR
