BEGIN:VCALENDAR
VERSION:2.0
PRODID:-//Sabre//Sabre VObject 4.5.8//EN
CALSCALE:GREGORIAN
BEGIN:VEVENT
UID:sabre-vobject-421340d3-5d78-477a-b778-855d7ae2355e
DTSTAMP:20260424T042430Z
SUMMARY:Alpha-Kurs
DESCRIPTION:https://keb-ll.de/starnberg-landsberg/veranstaltungen/alpha-kur
 s_id165983
DTSTART;TZID=Europe/Berlin:20230131T190000
DTEND;TZID=Europe/Berlin:20230131T210000
LOCATION:St. Maria Starnberg\, Weilheimer Straße 4\, 82319 Starnberg
END:VEVENT
END:VCALENDAR
