BEGIN:VCALENDAR
VERSION:2.0
PRODID:-//Sabre//Sabre VObject 4.5.8//EN
CALSCALE:GREGORIAN
BEGIN:VEVENT
UID:sabre-vobject-c1c9114a-4d03-45aa-90b2-77ed03ba7639
DTSTAMP:20260425T001154Z
SUMMARY:Alpha-Kurs
DESCRIPTION:https://keb-ll.de/starnberg-landsberg/veranstaltungen/alpha-kur
 s_id165990
DTSTART;TZID=Europe/Berlin:20230325T090000
DTEND;TZID=Europe/Berlin:20230325T170000
LOCATION:St. Maria Starnberg\, Weilheimer Straße 4\, 82319 Starnberg
END:VEVENT
END:VCALENDAR
