BEGIN:VCALENDAR
VERSION:2.0
PRODID:-//Sabre//Sabre VObject 4.5.8//EN
CALSCALE:GREGORIAN
BEGIN:VEVENT
UID:sabre-vobject-ea72e93b-4a80-4932-8637-6212ddbfe4f2
DTSTAMP:20260426T031044Z
SUMMARY:Türöffner-Kurs "Mach Dich auf"
DESCRIPTION:https://keb-ll.de/starnberg-landsberg/veranstaltungen/tueroeffn
 er-kurs-mach-dich-auf_id165999
DTSTART;TZID=Europe/Berlin:20230201T190000
DTEND;TZID=Europe/Berlin:20230201T210000
LOCATION:Pfaarsaal\, Pöckinger Straße 11\, 82319 Starnberg
END:VEVENT
END:VCALENDAR
