BEGIN:VCALENDAR
VERSION:2.0
PRODID:-//Sabre//Sabre VObject 4.5.8//EN
CALSCALE:GREGORIAN
BEGIN:VEVENT
UID:sabre-vobject-1776f343-68d2-424b-ad22-732c9f62c7ae
DTSTAMP:20260420T072334Z
SUMMARY:Eltern-Kind-Kreis
DESCRIPTION:https://keb-ll.de/starnberg-landsberg/veranstaltungen/eltern-ki
 nd-kreis_id166045
DTSTART;TZID=Europe/Berlin:20230320T150000
DTEND;TZID=Europe/Berlin:20230320T180000
LOCATION:Nachbarschaftshilfe\, Roseggerstraße 2\, 82229 Seefeld
END:VEVENT
END:VCALENDAR
