BEGIN:VCALENDAR
VERSION:2.0
PRODID:-//Sabre//Sabre VObject 4.5.8//EN
CALSCALE:GREGORIAN
BEGIN:VEVENT
UID:sabre-vobject-0ccb83fe-8d4e-44c9-8aa9-9334e81097a5
DTSTAMP:20260424T094156Z
SUMMARY:Eltern-Kind-Kreis
DESCRIPTION:https://keb-ll.de/starnberg-landsberg/veranstaltungen/eltern-ki
 nd-kreis_id166046
DTSTART;TZID=Europe/Berlin:20230327T150000
DTEND;TZID=Europe/Berlin:20230327T180000
LOCATION:Nachbarschaftshilfe\, Roseggerstraße 2\, 82229 Seefeld
END:VEVENT
END:VCALENDAR
