BEGIN:VCALENDAR
VERSION:2.0
PRODID:-//Sabre//Sabre VObject 4.5.8//EN
CALSCALE:GREGORIAN
BEGIN:VEVENT
UID:sabre-vobject-39594858-27bf-4dcc-9476-99e4c1011fb1
DTSTAMP:20260426T003108Z
SUMMARY:Nicht nur in Schwaben - Spätzle kochen & genießen
DESCRIPTION:https://keb-ll.de/starnberg-landsberg/veranstaltungen/nicht-nur
 -in-schwaben-spaetzle-kochen-geniessen_id171383
DTSTART;TZID=Europe/Berlin:20230320T183000
LOCATION:Pfarrzentrum\, Maria am Wege 1\, 86949 Windach
END:VEVENT
END:VCALENDAR
