BEGIN:VCALENDAR
VERSION:2.0
PRODID:-//Sabre//Sabre VObject 4.5.8//EN
CALSCALE:GREGORIAN
BEGIN:VEVENT
UID:sabre-vobject-7d06b612-d6e8-4b23-beab-4f0ff8513c38
DTSTAMP:20260422T033857Z
SUMMARY:Abstrakt und mehr
DESCRIPTION:https://keb-ll.de/starnberg-landsberg/veranstaltungen/abstrakt-
 und-mehr_id176217
DTSTART;TZID=Europe/Berlin:20230319T090000
DTEND;TZID=Europe/Berlin:20230319T120000
LOCATION:Roncallihaus\, Kirchenstraße 10\, 82327 Tutzing
END:VEVENT
END:VCALENDAR
