BEGIN:VCALENDAR
VERSION:2.0
PRODID:-//Sabre//Sabre VObject 4.5.8//EN
CALSCALE:GREGORIAN
BEGIN:VEVENT
UID:sabre-vobject-d8b4d247-a3c9-4ae3-b3d0-ab4e3e9be676
DTSTAMP:20260420T044243Z
SUMMARY:Abstrakt und mehr
DESCRIPTION:https://keb-ll.de/starnberg-landsberg/veranstaltungen/abstrakt-
 und-mehr_id176218
DTSTART;TZID=Europe/Berlin:20230320T090000
LOCATION:Roncallihaus\, Kirchenstraße 10\, 82327 Tutzing
END:VEVENT
END:VCALENDAR
