BEGIN:VCALENDAR
VERSION:2.0
PRODID:-//Sabre//Sabre VObject 4.5.8//EN
CALSCALE:GREGORIAN
BEGIN:VEVENT
UID:sabre-vobject-f7d878f8-958d-4e80-be74-d32f82b980a9
DTSTAMP:20260420T034239Z
SUMMARY:Mut und Vertrauen zum Fasten - Überwinden von Ängsten
DESCRIPTION:https://keb-ll.de/starnberg-landsberg/veranstaltungen/mut-und-v
 ertrauen-zum-fasten-ueberwinden-von-aengsten_id176792
DTSTART;TZID=Europe/Berlin:20230313T150000
DTEND;TZID=Europe/Berlin:20230319T133000
LOCATION:Exerzitienhaus\, Erzabtei 1\, 86941 Eresing
END:VEVENT
END:VCALENDAR
