BEGIN:VCALENDAR
VERSION:2.0
PRODID:-//Sabre//Sabre VObject 4.5.8//EN
CALSCALE:GREGORIAN
BEGIN:VEVENT
UID:sabre-vobject-b6e5ed37-a406-4f25-b767-227a112d3e72
DTSTAMP:20260424T152717Z
SUMMARY:Das mystische Schweigen
DESCRIPTION:https://keb-ll.de/starnberg-landsberg/veranstaltungen/das-mysti
 sche-schweigen_id176805
DTSTART;TZID=Europe/Berlin:20230324T170000
DTEND;TZID=Europe/Berlin:20230326T133000
LOCATION:Exerzitienhaus\, Erzabtei 1\, 86941 Eresing
END:VEVENT
END:VCALENDAR
