BEGIN:VCALENDAR
VERSION:2.0
PRODID:-//Sabre//Sabre VObject 4.5.8//EN
CALSCALE:GREGORIAN
BEGIN:VEVENT
UID:sabre-vobject-836e6212-1ac1-4865-8185-db1b2e8ba4ad
DTSTAMP:20260422T013601Z
SUMMARY:Land Art
DESCRIPTION:https://keb-ll.de/starnberg-landsberg/veranstaltungen/land-art_
 id182107
DTSTART;TZID=Europe/Berlin:20230602T170000
DTEND;TZID=Europe/Berlin:20230604T133000
LOCATION:Exerzitienhaus\, Erzabtei 1\, 86941 Eresing
END:VEVENT
END:VCALENDAR
