BEGIN:VCALENDAR
VERSION:2.0
PRODID:-//Sabre//Sabre VObject 4.5.8//EN
CALSCALE:GREGORIAN
BEGIN:VEVENT
UID:sabre-vobject-ebb7f482-49f5-471d-842d-e6dc46df6c26
DTSTAMP:20260423T050042Z
SUMMARY:Koordination – Gleichgewicht – Beweglichkeit
DESCRIPTION:https://keb-ll.de/starnberg-landsberg/veranstaltungen/koordinat
 ion-gleichgewicht-beweglichkeit_id186966
DTSTART;TZID=Europe/Berlin:20230605T103000
DTEND;TZID=Europe/Berlin:20230605T113000
LOCATION:Nachbarschaftshilfe\, Schluchtweg 9B\, 82340 Feldafing
END:VEVENT
END:VCALENDAR
