BEGIN:VCALENDAR
VERSION:2.0
PRODID:-//Sabre//Sabre VObject 4.5.8//EN
CALSCALE:GREGORIAN
BEGIN:VEVENT
UID:sabre-vobject-365964d7-0555-4c8a-ae0c-f38a0312bd3c
DTSTAMP:20260423T212516Z
SUMMARY:Koordination – Gleichgewicht – Beweglichkeit
DESCRIPTION:https://keb-ll.de/starnberg-landsberg/veranstaltungen/koordinat
 ion-gleichgewicht-beweglichkeit_id186991
DTSTART;TZID=Europe/Berlin:20231204T103000
DTEND;TZID=Europe/Berlin:20231204T113000
LOCATION:Nachbarschaftshilfe\, Schluchtweg 9B\, 82340 Feldafing
END:VEVENT
END:VCALENDAR
