BEGIN:VCALENDAR
VERSION:2.0
PRODID:-//Sabre//Sabre VObject 4.5.8//EN
CALSCALE:GREGORIAN
BEGIN:VEVENT
UID:sabre-vobject-0b1b7c73-54ba-47a2-86e0-e7ca7d0d5bad
DTSTAMP:20260423T130901Z
SUMMARY:Meditation
DESCRIPTION:https://keb-ll.de/starnberg-landsberg/veranstaltungen/meditatio
 n_id187070
DTSTART;TZID=Europe/Berlin:20230529T180000
DTEND;TZID=Europe/Berlin:20230529T190000
LOCATION:Nachbarschaftshilfe\, Schluchtweg 9B\, 82340 Feldafing
END:VEVENT
END:VCALENDAR
