BEGIN:VCALENDAR
VERSION:2.0
PRODID:-//Sabre//Sabre VObject 4.5.8//EN
CALSCALE:GREGORIAN
BEGIN:VEVENT
UID:sabre-vobject-c28fe9b5-eaa2-4863-9106-637f8f6ba171
DTSTAMP:20260423T151151Z
SUMMARY:Aktivierungs- u. Entspannungsgymnastik
DESCRIPTION:https://keb-ll.de/starnberg-landsberg/veranstaltungen/aktivieru
 ngs-u-entspannungsgymnastik_id187191
DTSTART;TZID=Europe/Berlin:20230605T090000
DTEND;TZID=Europe/Berlin:20230605T100000
LOCATION:Pfarrheim\, Schulstraße 12\, 86492 Egling an der Paar
END:VEVENT
END:VCALENDAR
