BEGIN:VCALENDAR
VERSION:2.0
PRODID:-//Sabre//Sabre VObject 4.5.8//EN
CALSCALE:GREGORIAN
BEGIN:VEVENT
UID:sabre-vobject-ed32b21f-d32d-4ce8-aaf0-bbeb25d5aa5e
DTSTAMP:20260421T191514Z
SUMMARY:Erziehungskompetenzen von Eltern fördern
DESCRIPTION:https://keb-ll.de/starnberg-landsberg/veranstaltungen/erziehung
 skompetenzen-von-eltern-foerdern_id190071
DTSTART;TZID=Europe/Berlin:20231121T083000
DTEND;TZID=Europe/Berlin:20231121T100000
LOCATION:Feuerwehrhaus\, Dorfstraße 9\, 86981 Kinsau
END:VEVENT
END:VCALENDAR
