BEGIN:VCALENDAR
VERSION:2.0
PRODID:-//Sabre//Sabre VObject 4.5.8//EN
CALSCALE:GREGORIAN
BEGIN:VEVENT
UID:sabre-vobject-d0ab20db-8cd2-4ecb-84ef-62f9c59b4935
DTSTAMP:20260425T160939Z
SUMMARY:Erste Hilfe am Baby- und Kleinkind
DESCRIPTION:https://keb-ll.de/starnberg-landsberg/veranstaltungen/erste-hil
 fe-am-baby-und-kleinkind_id190210
DTSTART;TZID=Europe/Berlin:20231124T090000
LOCATION:Katholische Beratungsstelle für Schwangerschaftsfragen Landsberg\
 , Vorderer Anger 276\, 86899 Landsberg am Lech
END:VEVENT
END:VCALENDAR
