BEGIN:VCALENDAR
VERSION:2.0
PRODID:-//Sabre//Sabre VObject 4.5.8//EN
CALSCALE:GREGORIAN
BEGIN:VEVENT
UID:sabre-vobject-2b37839c-02c8-40c5-b6e5-7dd95e1fc490
DTSTAMP:20260423T102253Z
SUMMARY:Kreativ Kinder- und Jugendmalkurs
DESCRIPTION:https://keb-ll.de/starnberg-landsberg/veranstaltungen/kreativ-k
 inder-und-jugendmalkurs_id201948
DTSTART;TZID=Europe/Berlin:20231121T160000
DTEND;TZID=Europe/Berlin:20231121T170000
LOCATION:Pfarrheim\, Schulstraße 12\, 86492 Egling an der Paar
END:VEVENT
END:VCALENDAR
