BEGIN:VCALENDAR
VERSION:2.0
PRODID:-//Sabre//Sabre VObject 4.5.8//EN
CALSCALE:GREGORIAN
BEGIN:VEVENT
UID:sabre-vobject-c9722596-da99-4455-9e51-43f308ca8435
DTSTAMP:20260421T183717Z
SUMMARY:Die seelischen Widerstandskräfte stärken
DESCRIPTION:https://keb-ll.de/starnberg-landsberg/veranstaltungen/die-seeli
 schen-widerstandskraefte-staerken_id204119
DTSTART;TZID=Europe/Berlin:20240216T170000
DTEND;TZID=Europe/Berlin:20240218T133000
LOCATION:Exerzitienhaus\, Erzabtei 1\, 86941 Eresing
END:VEVENT
END:VCALENDAR
