BEGIN:VCALENDAR
VERSION:2.0
PRODID:-//Sabre//Sabre VObject 4.5.8//EN
CALSCALE:GREGORIAN
BEGIN:VEVENT
UID:sabre-vobject-4ea01ad3-7475-4e22-b065-99e4a37480d7
DTSTAMP:20260424T034736Z
SUMMARY:Wer fragt\, lebt besser! Von der Kunst\, die richtigen Fragen zu st
 ellen - für mehr SINN im Leben
DESCRIPTION:https://keb-ll.de/starnberg-landsberg/veranstaltungen/wer-fragt
 -lebt-besser-von-der-kunst-die-richtigen-fragen-zu-stellen-fuer-mehr-sinn-
 im-leben_id204963
DTSTART;TZID=Europe/Berlin:20240617T143000
DTEND;TZID=Europe/Berlin:20240619T133000
LOCATION:Exerzitienhaus\, Erzabtei 1\, 86941 Eresing
END:VEVENT
END:VCALENDAR
