BEGIN:VCALENDAR
VERSION:2.0
PRODID:-//Sabre//Sabre VObject 4.5.8//EN
CALSCALE:GREGORIAN
BEGIN:VEVENT
UID:sabre-vobject-56695f7b-41df-4f2a-a124-5ff7b0f2fc01
DTSTAMP:20260425T133328Z
SUMMARY:Einführung in die Kontemplation
DESCRIPTION:https://keb-ll.de/starnberg-landsberg/veranstaltungen/einfuehru
 ng-in-die-kontemplation_id204968
DTSTART;TZID=Europe/Berlin:20240712T170000
DTEND;TZID=Europe/Berlin:20240714T133000
LOCATION:Exerzitienhaus\, Erzabtei 1\, 86941 Eresing
END:VEVENT
END:VCALENDAR
