BEGIN:VCALENDAR
VERSION:2.0
PRODID:-//Sabre//Sabre VObject 4.5.8//EN
CALSCALE:GREGORIAN
BEGIN:VEVENT
UID:sabre-vobject-2d6560f7-8ffc-457a-aec5-a881b6aa6ebd
DTSTAMP:20260425T000656Z
SUMMARY:Feldenkrais
DESCRIPTION:https://keb-ll.de/starnberg-landsberg/veranstaltungen/feldenkra
 is_id204983
DTSTART;TZID=Europe/Berlin:20241010T170000
DTEND;TZID=Europe/Berlin:20241013T133000
LOCATION:Exerzitienhaus\, Erzabtei 1\, 86941 Eresing
END:VEVENT
END:VCALENDAR
