BEGIN:VCALENDAR
VERSION:2.0
PRODID:-//Sabre//Sabre VObject 4.5.8//EN
CALSCALE:GREGORIAN
BEGIN:VEVENT
UID:sabre-vobject-977b4e0f-fb2c-4b32-8c77-b20fb6fe03c8
DTSTAMP:20260424T055912Z
SUMMARY:Unsere Kirchen im Dekanat kennenlernen - jeden zweiten Sonntag im M
 onat
DESCRIPTION:https://keb-ll.de/starnberg-landsberg/veranstaltungen/unsere-ki
 rchen-im-dekanat-kennenlernen-jeden-zweiten-sonntag-im-monat_id207135
DTSTART;TZID=Europe/Berlin:20240811T170000
LOCATION:Kirche St. Maria Hilfe der Christen\, Kirchplatz 1\, 82319 Starnbe
 rg
END:VEVENT
END:VCALENDAR
