BEGIN:VCALENDAR
VERSION:2.0
PRODID:-//Sabre//Sabre VObject 4.5.8//EN
CALSCALE:GREGORIAN
BEGIN:VEVENT
UID:sabre-vobject-ca1f60fd-c197-4790-97f0-dcfb7542e9fd
DTSTAMP:20260421T203331Z
SUMMARY:Erziehungskompetenzen von Eltern fördern
DESCRIPTION:https://keb-ll.de/starnberg-landsberg/veranstaltungen/erziehung
 skompetenzen-von-eltern-foerdern_id207626
DTSTART;TZID=Europe/Berlin:20240409T083000
DTEND;TZID=Europe/Berlin:20240409T103000
LOCATION:Feuerwehrhaus\, Dorfstraße 9\, 86981 Kinsau
END:VEVENT
END:VCALENDAR
