BEGIN:VCALENDAR
VERSION:2.0
PRODID:-//Sabre//Sabre VObject 4.5.8//EN
CALSCALE:GREGORIAN
BEGIN:VEVENT
UID:sabre-vobject-0f1810fd-c165-4987-ba12-90e753fb5371
DTSTAMP:20260421T010636Z
SUMMARY:Erziehungskompetenzen von Eltern fördern
DESCRIPTION:https://keb-ll.de/starnberg-landsberg/veranstaltungen/erziehung
 skompetenzen-von-eltern-foerdern_id207635
DTSTART;TZID=Europe/Berlin:20240611T083000
DTEND;TZID=Europe/Berlin:20240611T103000
LOCATION:Feuerwehrhaus\, Dorfstraße 9\, 86981 Kinsau
END:VEVENT
END:VCALENDAR
