BEGIN:VCALENDAR
VERSION:2.0
PRODID:-//Sabre//Sabre VObject 4.5.8//EN
CALSCALE:GREGORIAN
BEGIN:VEVENT
UID:sabre-vobject-21267560-0cfa-4157-8b40-055cca1796c5
DTSTAMP:20260422T034353Z
SUMMARY:Körperfit - von Aerobic bis Zirkeltraining
DESCRIPTION:https://keb-ll.de/starnberg-landsberg/veranstaltungen/koerperfi
 t-von-aerobic-bis-zirkeltraining_id210998
DTSTART;TZID=Europe/Berlin:20241118T190000
DTEND;TZID=Europe/Berlin:20241118T203000
LOCATION:Alte Schule Ramsach\, Dorfstraße 28\, 86929 Penzing
END:VEVENT
END:VCALENDAR
