BEGIN:VCALENDAR
VERSION:2.0
PRODID:-//Sabre//Sabre VObject 4.5.8//EN
CALSCALE:GREGORIAN
BEGIN:VEVENT
UID:sabre-vobject-4da23dfb-4a3c-49c7-a89d-c065bacfcf70
DTSTAMP:20260420T203743Z
SUMMARY:Der Trauer kreativ begegnen
DESCRIPTION:https://keb-ll.de/starnberg-landsberg/veranstaltungen/der-traue
 r-kreativ-begegnen_id212612
DTSTART;TZID=Europe/Berlin:20240531T170000
DTEND;TZID=Europe/Berlin:20240602T133000
LOCATION:Exerzitienhaus\, Erzabtei 1\, 86941 Eresing
END:VEVENT
END:VCALENDAR
