BEGIN:VCALENDAR
VERSION:2.0
PRODID:-//Sabre//Sabre VObject 4.5.8//EN
CALSCALE:GREGORIAN
BEGIN:VEVENT
UID:sabre-vobject-8c3b2446-6265-4a80-8eff-f178d7cc7ae0
DTSTAMP:20260421T064624Z
SUMMARY:QiGong
DESCRIPTION:https://keb-ll.de/starnberg-landsberg/veranstaltungen/qigong_id
 219313
DTSTART;TZID=Europe/Berlin:20240605T093000
DTEND;TZID=Europe/Berlin:20240605T103000
LOCATION:Nachbarschaftshilfe Feldafing e. V.\, Schluchtweg 9B\, 82340 Felda
 fing
END:VEVENT
END:VCALENDAR
