BEGIN:VCALENDAR
VERSION:2.0
PRODID:-//Sabre//Sabre VObject 4.5.8//EN
CALSCALE:GREGORIAN
BEGIN:VEVENT
UID:sabre-vobject-922eeb29-7424-480f-a028-5a0ed68dd4af
DTSTAMP:20260422T164613Z
SUMMARY:Die Bibel lesen und verstehen
DESCRIPTION:https://keb-ll.de/starnberg-landsberg/veranstaltungen/die-bibel
 -lesen-und-verstehen_id220879
DTSTART;TZID=Europe/Berlin:20240219T200000
LOCATION:Pfarrheim Geltendorf\, Schulstraße 6\, 82269 Geltendorf
END:VEVENT
END:VCALENDAR
