BEGIN:VCALENDAR
VERSION:2.0
PRODID:-//Sabre//Sabre VObject 4.5.8//EN
CALSCALE:GREGORIAN
BEGIN:VEVENT
UID:sabre-vobject-44e039d0-2e83-4df2-872d-e1954487ff3f
DTSTAMP:20260425T105639Z
SUMMARY:Carmen Rohrbach "Elbsandsteingebirge"
DESCRIPTION:https://keb-ll.de/starnberg-landsberg/veranstaltungen/carmen-ro
 hrbach-elbsandsteingebirge_id220890
DTSTART;TZID=Europe/Berlin:20240409T193000
LOCATION:Pfarrzentrum\, Maria am Wege 1\, 86949 Windach
END:VEVENT
END:VCALENDAR
