BEGIN:VCALENDAR
VERSION:2.0
PRODID:-//Sabre//Sabre VObject 4.5.8//EN
CALSCALE:GREGORIAN
BEGIN:VEVENT
UID:sabre-vobject-bf114f7d-80d9-4937-8667-18e6764c7d4a
DTSTAMP:20260423T110222Z
SUMMARY:Erziehungskompetenzen von Eltern fördern
DESCRIPTION:https://keb-ll.de/starnberg-landsberg/veranstaltungen/erziehung
 skompetenzen-von-eltern-foerdern_id224050
DTSTART;TZID=Europe/Berlin:20240801T083000
DTEND;TZID=Europe/Berlin:20240801T100000
LOCATION:Feuerwehrhaus\, Dorfstraße 9\, 86981 Kinsau
END:VEVENT
END:VCALENDAR
