BEGIN:VCALENDAR
VERSION:2.0
PRODID:-//Sabre//Sabre VObject 4.5.8//EN
CALSCALE:GREGORIAN
BEGIN:VEVENT
UID:sabre-vobject-279a9ba0-34cb-4433-89a6-d784923c0ffc
DTSTAMP:20260420T034801Z
SUMMARY:Bibelabend
DESCRIPTION:https://keb-ll.de/starnberg-landsberg/veranstaltungen/bibelaben
 d_id224363
DTSTART;TZID=Europe/Berlin:20240909T190000
DTEND;TZID=Europe/Berlin:20240909T210000
LOCATION:Pfarrzentrum Mariä Himmelfahrt - Konferenzraum\, Ludwigstraße 16
 7\, 86899 Landsberg am Lech
END:VEVENT
END:VCALENDAR
