BEGIN:VCALENDAR
VERSION:2.0
PRODID:-//Sabre//Sabre VObject 4.5.8//EN
CALSCALE:GREGORIAN
BEGIN:VEVENT
UID:sabre-vobject-d9bec238-d14d-4800-baad-35f17bffc9d6
DTSTAMP:20260422T021155Z
SUMMARY:Männergesprächskreis
DESCRIPTION:https://keb-ll.de/starnberg-landsberg/veranstaltungen/maennerge
 spraechskreis_id224378
DTSTART;TZID=Europe/Berlin:20240411T150000
DTEND;TZID=Europe/Berlin:20240411T170000
LOCATION:Pfarrzentrum Mariä Himmelfahrt Elisabethraum\, Ludwigstraße 167\
 , 86899 Landsberg am Lech
END:VEVENT
END:VCALENDAR
