BEGIN:VCALENDAR
VERSION:2.0
PRODID:-//Sabre//Sabre VObject 4.5.8//EN
CALSCALE:GREGORIAN
BEGIN:VEVENT
UID:sabre-vobject-b8acd576-0bc0-43d9-8aa6-77d4255fb9c7
DTSTAMP:20260422T065822Z
SUMMARY:Männergesprächskreis
DESCRIPTION:https://keb-ll.de/starnberg-landsberg/veranstaltungen/maennerge
 spraechskreis_id224379
DTSTART;TZID=Europe/Berlin:20240516T150000
DTEND;TZID=Europe/Berlin:20240516T170000
LOCATION:Pfarrzentrum Mariä Himmelfahrt Elisabethraum\, Ludwigstraße 167\
 , 86899 Landsberg am Lech
END:VEVENT
END:VCALENDAR
