BEGIN:VCALENDAR
VERSION:2.0
PRODID:-//Sabre//Sabre VObject 4.5.8//EN
CALSCALE:GREGORIAN
BEGIN:VEVENT
UID:sabre-vobject-d2250760-30af-4cc7-8851-2b70474fe3ee
DTSTAMP:20260424T040730Z
SUMMARY:Die Bibel lesen und verstehen
DESCRIPTION:https://keb-ll.de/starnberg-landsberg/veranstaltungen/die-bibel
 -lesen-und-verstehen_id229978
DTSTART;TZID=Europe/Berlin:20240513T200000
LOCATION:Pfarrheim Geltendorf\, Schulstraße 6\, 82269 Geltendorf
END:VEVENT
END:VCALENDAR
