BEGIN:VCALENDAR
VERSION:2.0
PRODID:-//Sabre//Sabre VObject 4.5.8//EN
CALSCALE:GREGORIAN
BEGIN:VEVENT
UID:sabre-vobject-bd206880-cd90-4402-bb28-09c5f8911b9a
DTSTAMP:20260425T173643Z
SUMMARY:Die Bibel lesen und verstehen
DESCRIPTION:https://keb-ll.de/starnberg-landsberg/veranstaltungen/die-bibel
 -lesen-und-verstehen_id229980
DTSTART;TZID=Europe/Berlin:20240715T200000
LOCATION:Pfarrheim Geltendorf\, Schulstraße 6\, 82269 Geltendorf
END:VEVENT
END:VCALENDAR
