BEGIN:VCALENDAR
VERSION:2.0
PRODID:-//Sabre//Sabre VObject 4.5.8//EN
CALSCALE:GREGORIAN
BEGIN:VEVENT
UID:sabre-vobject-8b08fc73-c6e9-483c-a100-f866b2f5a199
DTSTAMP:20260425T221519Z
SUMMARY:Aktivierungs- und Enstspannungsgymnastik
DESCRIPTION:https://keb-ll.de/starnberg-landsberg/veranstaltungen/aktivieru
 ngs-und-enstspannungsgymnastik_id229999
DTSTART;TZID=Europe/Berlin:20240812T090000
DTEND;TZID=Europe/Berlin:20240812T100000
LOCATION:Pfarrheim\, Schulstraße 12\, 86492 Egling an der Paar
END:VEVENT
END:VCALENDAR
