BEGIN:VCALENDAR
VERSION:2.0
PRODID:-//Sabre//Sabre VObject 4.5.8//EN
CALSCALE:GREGORIAN
BEGIN:VEVENT
UID:sabre-vobject-34b420c1-041e-441e-ac09-64a680ebf710
DTSTAMP:20260423T025802Z
SUMMARY:Gabra-Nomaden in Ostafrika
DESCRIPTION:https://keb-ll.de/starnberg-landsberg/veranstaltungen/gabra-nom
 aden-in-ostafrika_id231053
DTSTART;TZID=Europe/Berlin:20240515T143000
LOCATION:Roncallihaus\, Kirchenstraße 10\, 82327 Tutzing
END:VEVENT
END:VCALENDAR
