BEGIN:VCALENDAR
VERSION:2.0
PRODID:-//Sabre//Sabre VObject 4.5.8//EN
CALSCALE:GREGORIAN
BEGIN:VEVENT
UID:sabre-vobject-1218e903-423c-418c-a0e3-4f9ab886d3de
DTSTAMP:20260425T170416Z
SUMMARY:Unsere Wälder - Kennen Sie unsere Wälder?
DESCRIPTION:https://keb-ll.de/starnberg-landsberg/veranstaltungen/unsere-wa
 elder-kennen-sie-unsere-waelder_id234239
DTSTART;TZID=Europe/Berlin:20240711T163000
LOCATION:Alpenverein Sektion Geltendorf\, Am Sportplatz 2\, 82269 Geltendor
 f
END:VEVENT
END:VCALENDAR
