BEGIN:VCALENDAR
VERSION:2.0
PRODID:-//Sabre//Sabre VObject 4.5.8//EN
CALSCALE:GREGORIAN
BEGIN:VEVENT
UID:sabre-vobject-f5518f40-67c0-4bb0-b5f0-c4a57d9a9e14
DTSTAMP:20260422T031705Z
SUMMARY:Landsberger Orgelsommer
DESCRIPTION:https://keb-ll.de/starnberg-landsberg/veranstaltungen/landsberg
 er-orgelsommer_id237951
DTSTART;TZID=Europe/Berlin:20240907T104500
DTEND;TZID=Europe/Berlin:20240907T121500
LOCATION:Stadtpfarrkirche Mariä Himmelfahrt\, Ludwigstraße 167\, 86899 La
 ndsberg am Lech
END:VEVENT
END:VCALENDAR
